BEGIN:VCALENDAR
VERSION:2.0
PRODID:-//Vores Cosmos - ECPv6.15.20//NONSGML v1.0//EN
CALSCALE:GREGORIAN
METHOD:PUBLISH
X-WR-CALNAME:Vores Cosmos
X-ORIGINAL-URL:https://vorescosmos.dk
X-WR-CALDESC:Begivenheder for Vores Cosmos
REFRESH-INTERVAL;VALUE=DURATION:PT1H
X-Robots-Tag:noindex
X-PUBLISHED-TTL:PT1H
BEGIN:VTIMEZONE
TZID:Europe/Copenhagen
BEGIN:DAYLIGHT
TZOFFSETFROM:+0100
TZOFFSETTO:+0200
TZNAME:CEST
DTSTART:20230326T010000
END:DAYLIGHT
BEGIN:STANDARD
TZOFFSETFROM:+0200
TZOFFSETTO:+0100
TZNAME:CET
DTSTART:20231029T010000
END:STANDARD
BEGIN:DAYLIGHT
TZOFFSETFROM:+0100
TZOFFSETTO:+0200
TZNAME:CEST
DTSTART:20240331T010000
END:DAYLIGHT
BEGIN:STANDARD
TZOFFSETFROM:+0200
TZOFFSETTO:+0100
TZNAME:CET
DTSTART:20241027T010000
END:STANDARD
BEGIN:DAYLIGHT
TZOFFSETFROM:+0100
TZOFFSETTO:+0200
TZNAME:CEST
DTSTART:20250330T010000
END:DAYLIGHT
BEGIN:STANDARD
TZOFFSETFROM:+0200
TZOFFSETTO:+0100
TZNAME:CET
DTSTART:20251026T010000
END:STANDARD
BEGIN:DAYLIGHT
TZOFFSETFROM:+0100
TZOFFSETTO:+0200
TZNAME:CEST
DTSTART:20260329T010000
END:DAYLIGHT
BEGIN:STANDARD
TZOFFSETFROM:+0200
TZOFFSETTO:+0100
TZNAME:CET
DTSTART:20261025T010000
END:STANDARD
END:VTIMEZONE
BEGIN:VEVENT
DTSTART;TZID=Europe/Copenhagen:20250205T173000
DTEND;TZID=Europe/Copenhagen:20250205T210000
DTSTAMP:20260421T212321
CREATED:20250128T151534Z
LAST-MODIFIED:20250128T151535Z
UID:10043406-1738776600-1738789200@vorescosmos.dk
SUMMARY:Black Velvet Band fra Viby Musikforening
DESCRIPTION:
URL:https://vorescosmos.dk/begivenhed/black-velvet-band-fra-viby-musikforening-5/
LOCATION:Medielab\, Søndergade 11\, Viby Sj.\, 4130\, Danmark
CATEGORIES:Lokale bookninger
END:VEVENT
BEGIN:VEVENT
DTSTART;TZID=Europe/Copenhagen:20250115T173000
DTEND;TZID=Europe/Copenhagen:20250115T210000
DTSTAMP:20260421T212321
CREATED:20250109T113444Z
LAST-MODIFIED:20250109T113445Z
UID:10043111-1736962200-1736974800@vorescosmos.dk
SUMMARY:Viby musikforening
DESCRIPTION:
URL:https://vorescosmos.dk/begivenhed/viby-musikforening-57/
LOCATION:Medielab\, Søndergade 11\, Viby Sj.\, 4130\, Danmark
CATEGORIES:Lokale bookninger
END:VEVENT
BEGIN:VEVENT
DTSTART;TZID=Europe/Copenhagen:20250113T160000
DTEND;TZID=Europe/Copenhagen:20250113T180000
DTSTAMP:20260421T212321
CREATED:20241205T141333Z
LAST-MODIFIED:20241205T141403Z
UID:10043020-1736784000-1736791200@vorescosmos.dk
SUMMARY:Bibliotekscaféen
DESCRIPTION:
URL:https://vorescosmos.dk/begivenhed/bibliotekscafeen-2/
LOCATION:Medielab\, Søndergade 11\, Viby Sj.\, 4130\, Danmark
CATEGORIES:Lokale bookninger
END:VEVENT
BEGIN:VEVENT
DTSTART;TZID=Europe/Copenhagen:20250108T173000
DTEND;TZID=Europe/Copenhagen:20250108T210000
DTSTAMP:20260421T212321
CREATED:20250102T101700Z
LAST-MODIFIED:20250102T101700Z
UID:10043073-1736357400-1736370000@vorescosmos.dk
SUMMARY:Viby musikforening
DESCRIPTION:
URL:https://vorescosmos.dk/begivenhed/viby-musikforening-56/
LOCATION:Medielab\, Søndergade 11\, Viby Sj.\, 4130\, Danmark
CATEGORIES:Lokale bookninger
END:VEVENT
BEGIN:VEVENT
DTSTART;TZID=Europe/Copenhagen:20241218T174500
DTEND;TZID=Europe/Copenhagen:20241218T210000
DTSTAMP:20260421T212321
CREATED:20241212T101213Z
LAST-MODIFIED:20241212T101416Z
UID:10043040-1734543900-1734555600@vorescosmos.dk
SUMMARY:Black Velvet band fra Viby Musikforening
DESCRIPTION:
URL:https://vorescosmos.dk/begivenhed/black-velvet-band/
LOCATION:Medielab\, Søndergade 11\, Viby Sj.\, 4130\, Danmark
CATEGORIES:Lokale bookninger
END:VEVENT
BEGIN:VEVENT
DTSTART;TZID=Europe/Copenhagen:20241217T190000
DTEND;TZID=Europe/Copenhagen:20241217T220000
DTSTAMP:20260421T212321
CREATED:20241126T142201Z
LAST-MODIFIED:20241126T142202Z
UID:10042933-1734462000-1734472800@vorescosmos.dk
SUMMARY:Indspilningsgruppe
DESCRIPTION:
URL:https://vorescosmos.dk/begivenhed/indspilningsgruppe-2/2024-12-17/
LOCATION:Medielab\, Søndergade 11\, Viby Sj.\, 4130\, Danmark
CATEGORIES:Lokale bookninger
END:VEVENT
BEGIN:VEVENT
DTSTART;TZID=Europe/Copenhagen:20241215T130000
DTEND;TZID=Europe/Copenhagen:20241215T170000
DTSTAMP:20260421T212321
CREATED:20240904T100753Z
LAST-MODIFIED:20240904T100754Z
UID:10042700-1734267600-1734282000@vorescosmos.dk
SUMMARY:4. musikformat
DESCRIPTION:
URL:https://vorescosmos.dk/begivenhed/4-musikformat-11/
LOCATION:Medielab\, Søndergade 11\, Viby Sj.\, 4130\, Danmark
CATEGORIES:Lokale bookninger
END:VEVENT
BEGIN:VEVENT
DTSTART;TZID=Europe/Copenhagen:20241211T174500
DTEND;TZID=Europe/Copenhagen:20241211T210000
DTSTAMP:20260421T212321
CREATED:20241209T144128Z
LAST-MODIFIED:20241209T144128Z
UID:10043034-1733939100-1733950800@vorescosmos.dk
SUMMARY:Black Velvet Band fra Viby Musikforening
DESCRIPTION:
URL:https://vorescosmos.dk/begivenhed/black-velvet-band-fra-viby-musikforening-4/
LOCATION:Medielab\, Søndergade 11\, Viby Sj.\, 4130\, Danmark
CATEGORIES:Lokale bookninger
END:VEVENT
BEGIN:VEVENT
DTSTART;TZID=Europe/Copenhagen:20241210T190000
DTEND;TZID=Europe/Copenhagen:20241210T220000
DTSTAMP:20260421T212321
CREATED:20241126T142201Z
LAST-MODIFIED:20241126T142202Z
UID:10042932-1733857200-1733868000@vorescosmos.dk
SUMMARY:Indspilningsgruppe
DESCRIPTION:
URL:https://vorescosmos.dk/begivenhed/indspilningsgruppe-2/2024-12-10/
LOCATION:Medielab\, Søndergade 11\, Viby Sj.\, 4130\, Danmark
CATEGORIES:Lokale bookninger
END:VEVENT
BEGIN:VEVENT
DTSTART;TZID=Europe/Copenhagen:20241207T140000
DTEND;TZID=Europe/Copenhagen:20241207T220000
DTSTAMP:20260421T212321
CREATED:20240808T131647Z
LAST-MODIFIED:20240808T131648Z
UID:10042652-1733580000-1733608800@vorescosmos.dk
SUMMARY:Peder Syv skole: Dramahold
DESCRIPTION:
URL:https://vorescosmos.dk/begivenhed/peder-syv-skole-dramahold/
LOCATION:Medielab\, Søndergade 11\, Viby Sj.\, 4130\, Danmark
CATEGORIES:Lokale bookninger
END:VEVENT
BEGIN:VEVENT
DTSTART;TZID=Europe/Copenhagen:20241204T174500
DTEND;TZID=Europe/Copenhagen:20241204T210000
DTSTAMP:20260421T212321
CREATED:20241126T142600Z
LAST-MODIFIED:20241126T142601Z
UID:10042934-1733334300-1733346000@vorescosmos.dk
SUMMARY:Black Velvet Band fra Viby Musikforening
DESCRIPTION:
URL:https://vorescosmos.dk/begivenhed/black-velvet-band-fra-viby-musikforening-3/
LOCATION:Medielab\, Søndergade 11\, Viby Sj.\, 4130\, Danmark
END:VEVENT
BEGIN:VEVENT
DTSTART;TZID=Europe/Copenhagen:20241204T140000
DTEND;TZID=Europe/Copenhagen:20241204T170000
DTSTAMP:20260421T212321
CREATED:20241121T074431Z
LAST-MODIFIED:20241121T074431Z
UID:10042926-1733320800-1733331600@vorescosmos.dk
SUMMARY:Peder Syv Aftenskole
DESCRIPTION:
URL:https://vorescosmos.dk/begivenhed/peder-syv-aftenskole-10/
LOCATION:Medielab\, Søndergade 11\, Viby Sj.\, 4130\, Danmark
CATEGORIES:Lokale bookninger
END:VEVENT
BEGIN:VEVENT
DTSTART;TZID=Europe/Copenhagen:20241203T190000
DTEND;TZID=Europe/Copenhagen:20241203T220000
DTSTAMP:20260421T212321
CREATED:20241126T142201Z
LAST-MODIFIED:20241126T142202Z
UID:10042931-1733252400-1733263200@vorescosmos.dk
SUMMARY:Indspilningsgruppe
DESCRIPTION:
URL:https://vorescosmos.dk/begivenhed/indspilningsgruppe-2/2024-12-03/
LOCATION:Medielab\, Søndergade 11\, Viby Sj.\, 4130\, Danmark
CATEGORIES:Lokale bookninger
END:VEVENT
BEGIN:VEVENT
DTSTART;TZID=Europe/Copenhagen:20241202T160000
DTEND;TZID=Europe/Copenhagen:20241202T230000
DTSTAMP:20260421T212321
CREATED:20240112T114525Z
LAST-MODIFIED:20240205T104516Z
UID:10041988-1733155200-1733180400@vorescosmos.dk
SUMMARY:4. musikformat
DESCRIPTION:
URL:https://vorescosmos.dk/begivenhed/4-musikformat-2/
LOCATION:Medielab\, Søndergade 11\, Viby Sj.\, 4130\, Danmark
CATEGORIES:Lokale bookninger
END:VEVENT
BEGIN:VEVENT
DTSTART;TZID=Europe/Copenhagen:20241129T160000
DTEND;TZID=Europe/Copenhagen:20241129T230000
DTSTAMP:20260421T212321
CREATED:20240822T093810Z
LAST-MODIFIED:20240822T093811Z
UID:10042673-1732896000-1732921200@vorescosmos.dk
SUMMARY:3. musikformat
DESCRIPTION:
URL:https://vorescosmos.dk/begivenhed/3-musikformat-14/
LOCATION:Medielab\, Søndergade 11\, Viby Sj.\, 4130\, Danmark
CATEGORIES:Lokale bookninger
END:VEVENT
BEGIN:VEVENT
DTSTART;TZID=Europe/Copenhagen:20241126T190000
DTEND;TZID=Europe/Copenhagen:20241126T220000
DTSTAMP:20260421T212321
CREATED:20241126T142201Z
LAST-MODIFIED:20241126T142202Z
UID:10042930-1732647600-1732658400@vorescosmos.dk
SUMMARY:Indspilningsgruppe
DESCRIPTION:
URL:https://vorescosmos.dk/begivenhed/indspilningsgruppe-2/2024-11-26/
LOCATION:Medielab\, Søndergade 11\, Viby Sj.\, 4130\, Danmark
CATEGORIES:Lokale bookninger
END:VEVENT
BEGIN:VEVENT
DTSTART;TZID=Europe/Copenhagen:20241120T173000
DTEND;TZID=Europe/Copenhagen:20241120T210000
DTSTAMP:20260421T212321
CREATED:20241111T074824Z
LAST-MODIFIED:20241111T074824Z
UID:10042853-1732123800-1732136400@vorescosmos.dk
SUMMARY:Viby Musikforening
DESCRIPTION:
URL:https://vorescosmos.dk/begivenhed/viby-musikforening-53/
LOCATION:Medielab\, Søndergade 11\, Viby Sj.\, 4130\, Danmark
CATEGORIES:Lokale bookninger
END:VEVENT
BEGIN:VEVENT
DTSTART;TZID=Europe/Copenhagen:20241113T200000
DTEND;TZID=Europe/Copenhagen:20241113T210000
DTSTAMP:20260421T212321
CREATED:20241111T075301Z
LAST-MODIFIED:20241111T075301Z
UID:10042855-1731528000-1731531600@vorescosmos.dk
SUMMARY:Viby friskole
DESCRIPTION:
URL:https://vorescosmos.dk/begivenhed/viby-friskole-2/
LOCATION:Medielab\, Søndergade 11\, Viby Sj.\, 4130\, Danmark
CATEGORIES:Lokale bookninger
END:VEVENT
BEGIN:VEVENT
DTSTART;TZID=Europe/Copenhagen:20241113T173000
DTEND;TZID=Europe/Copenhagen:20241113T200000
DTSTAMP:20260421T212321
CREATED:20241111T074734Z
LAST-MODIFIED:20241111T074734Z
UID:10042852-1731519000-1731528000@vorescosmos.dk
SUMMARY:Viby Musikforening
DESCRIPTION:
URL:https://vorescosmos.dk/begivenhed/viby-musikforening-52/
LOCATION:Medielab\, Søndergade 11\, Viby Sj.\, 4130\, Danmark
CATEGORIES:Lokale bookninger
END:VEVENT
BEGIN:VEVENT
DTSTART;TZID=Europe/Copenhagen:20241112T190000
DTEND;TZID=Europe/Copenhagen:20241112T210000
DTSTAMP:20260421T212321
CREATED:20241030T105933Z
LAST-MODIFIED:20241030T105935Z
UID:10042791-1731438000-1731445200@vorescosmos.dk
SUMMARY:Borger
DESCRIPTION:
URL:https://vorescosmos.dk/begivenhed/borger-5/
LOCATION:Medielab\, Søndergade 11\, Viby Sj.\, 4130\, Danmark
CATEGORIES:Lokale bookninger
END:VEVENT
BEGIN:VEVENT
DTSTART;TZID=Europe/Copenhagen:20241106T173000
DTEND;TZID=Europe/Copenhagen:20241106T210000
DTSTAMP:20260421T212321
CREATED:20241030T114551Z
LAST-MODIFIED:20241030T114552Z
UID:10042792-1730914200-1730926800@vorescosmos.dk
SUMMARY:Viby musikforening
DESCRIPTION:
URL:https://vorescosmos.dk/begivenhed/viby-musikforening-51/
LOCATION:Medielab\, Søndergade 11\, Viby Sj.\, 4130\, Danmark
CATEGORIES:Lokale bookninger
END:VEVENT
BEGIN:VEVENT
DTSTART;TZID=Europe/Copenhagen:20241105T190000
DTEND;TZID=Europe/Copenhagen:20241105T210000
DTSTAMP:20260421T212321
CREATED:20241030T105736Z
LAST-MODIFIED:20241030T105738Z
UID:10042790-1730833200-1730840400@vorescosmos.dk
SUMMARY:Borger
DESCRIPTION:
URL:https://vorescosmos.dk/begivenhed/borger-4/
LOCATION:Medielab\, Søndergade 11\, Viby Sj.\, 4130\, Danmark
CATEGORIES:Lokale bookninger
END:VEVENT
BEGIN:VEVENT
DTSTART;TZID=Europe/Copenhagen:20241031T090000
DTEND;TZID=Europe/Copenhagen:20241031T110000
DTSTAMP:20260421T212321
CREATED:20241025T092318Z
LAST-MODIFIED:20241025T092333Z
UID:10042756-1730365200-1730372400@vorescosmos.dk
SUMMARY:Husrådet
DESCRIPTION:
URL:https://vorescosmos.dk/begivenhed/husraadet-4/
LOCATION:Medielab\, Søndergade 11\, Viby Sj.\, 4130\, Danmark
CATEGORIES:Lokale bookninger
END:VEVENT
BEGIN:VEVENT
DTSTART;TZID=Europe/Copenhagen:20241029T160000
DTEND;TZID=Europe/Copenhagen:20241029T230000
DTSTAMP:20260421T212321
CREATED:20240516T082740Z
LAST-MODIFIED:20240516T082742Z
UID:10042433-1730217600-1730242800@vorescosmos.dk
SUMMARY:KulturCosmos Stand up
DESCRIPTION:
URL:https://vorescosmos.dk/begivenhed/kulturcosmos-stand-up-2/
LOCATION:Medielab\, Søndergade 11\, Viby Sj.\, 4130\, Danmark
CATEGORIES:Lokale bookninger
END:VEVENT
BEGIN:VEVENT
DTSTART;TZID=Europe/Copenhagen:20241028T183000
DTEND;TZID=Europe/Copenhagen:20241028T203000
DTSTAMP:20260421T212321
CREATED:20240823T105502Z
LAST-MODIFIED:20240823T105503Z
UID:10042680-1730140200-1730147400@vorescosmos.dk
SUMMARY:Læsegruppe
DESCRIPTION:
URL:https://vorescosmos.dk/begivenhed/laesegruppe-8/2024-10-28/
LOCATION:Medielab\, Søndergade 11\, Viby Sj.\, 4130\, Danmark
CATEGORIES:Lokale bookninger
END:VEVENT
BEGIN:VEVENT
DTSTART;TZID=Europe/Copenhagen:20241023T173000
DTEND;TZID=Europe/Copenhagen:20241023T210000
DTSTAMP:20260421T212321
CREATED:20241018T065054Z
LAST-MODIFIED:20241018T065056Z
UID:10042743-1729704600-1729717200@vorescosmos.dk
SUMMARY:Viby Musikforening
DESCRIPTION:
URL:https://vorescosmos.dk/begivenhed/viby-musikforening-49/
LOCATION:Medielab\, Søndergade 11\, Viby Sj.\, 4130\, Danmark
CATEGORIES:Lokale bookninger
END:VEVENT
BEGIN:VEVENT
DTSTART;TZID=Europe/Copenhagen:20241022T190000
DTEND;TZID=Europe/Copenhagen:20241022T220000
DTSTAMP:20260421T212321
CREATED:20241007T090133Z
LAST-MODIFIED:20241007T090134Z
UID:10042735-1729623600-1729634400@vorescosmos.dk
SUMMARY:Indspilningsgruppe
DESCRIPTION:
URL:https://vorescosmos.dk/begivenhed/indspilningsgruppe/2024-10-22/
LOCATION:Medielab\, Søndergade 11\, Viby Sj.\, 4130\, Danmark
CATEGORIES:Lokale bookninger
END:VEVENT
BEGIN:VEVENT
DTSTART;TZID=Europe/Copenhagen:20241016T173000
DTEND;TZID=Europe/Copenhagen:20241016T210000
DTSTAMP:20260421T212321
CREATED:20241015T091454Z
LAST-MODIFIED:20241015T091456Z
UID:10042739-1729099800-1729112400@vorescosmos.dk
SUMMARY:Viby musikforening
DESCRIPTION:
URL:https://vorescosmos.dk/begivenhed/viby-musikforening-48/
LOCATION:Medielab\, Søndergade 11\, Viby Sj.\, 4130\, Danmark
CATEGORIES:Lokale bookninger
END:VEVENT
BEGIN:VEVENT
DTSTART;TZID=Europe/Copenhagen:20241015T190000
DTEND;TZID=Europe/Copenhagen:20241015T220000
DTSTAMP:20260421T212321
CREATED:20241007T090133Z
LAST-MODIFIED:20241007T090134Z
UID:10042734-1729018800-1729029600@vorescosmos.dk
SUMMARY:Indspilningsgruppe
DESCRIPTION:
URL:https://vorescosmos.dk/begivenhed/indspilningsgruppe/2024-10-15/
LOCATION:Medielab\, Søndergade 11\, Viby Sj.\, 4130\, Danmark
CATEGORIES:Lokale bookninger
END:VEVENT
BEGIN:VEVENT
DTSTART;TZID=Europe/Copenhagen:20241014T183000
DTEND;TZID=Europe/Copenhagen:20241014T203000
DTSTAMP:20260421T212321
CREATED:20240823T105502Z
LAST-MODIFIED:20240823T105503Z
UID:10042679-1728930600-1728937800@vorescosmos.dk
SUMMARY:Læsegruppe
DESCRIPTION:
URL:https://vorescosmos.dk/begivenhed/laesegruppe-8/2024-10-14/
LOCATION:Medielab\, Søndergade 11\, Viby Sj.\, 4130\, Danmark
CATEGORIES:Lokale bookninger
END:VEVENT
END:VCALENDAR