BEGIN:VCALENDAR
VERSION:2.0
PRODID:-//Vores Cosmos - ECPv6.15.20//NONSGML v1.0//EN
CALSCALE:GREGORIAN
METHOD:PUBLISH
X-ORIGINAL-URL:https://vorescosmos.dk
X-WR-CALDESC:Begivenheder for Vores Cosmos
REFRESH-INTERVAL;VALUE=DURATION:PT1H
X-Robots-Tag:noindex
X-PUBLISHED-TTL:PT1H
BEGIN:VTIMEZONE
TZID:Europe/Copenhagen
BEGIN:DAYLIGHT
TZOFFSETFROM:+0100
TZOFFSETTO:+0200
TZNAME:CEST
DTSTART:20230326T010000
END:DAYLIGHT
BEGIN:STANDARD
TZOFFSETFROM:+0200
TZOFFSETTO:+0100
TZNAME:CET
DTSTART:20231029T010000
END:STANDARD
BEGIN:DAYLIGHT
TZOFFSETFROM:+0100
TZOFFSETTO:+0200
TZNAME:CEST
DTSTART:20240331T010000
END:DAYLIGHT
BEGIN:STANDARD
TZOFFSETFROM:+0200
TZOFFSETTO:+0100
TZNAME:CET
DTSTART:20241027T010000
END:STANDARD
BEGIN:DAYLIGHT
TZOFFSETFROM:+0100
TZOFFSETTO:+0200
TZNAME:CEST
DTSTART:20250330T010000
END:DAYLIGHT
BEGIN:STANDARD
TZOFFSETFROM:+0200
TZOFFSETTO:+0100
TZNAME:CET
DTSTART:20251026T010000
END:STANDARD
END:VTIMEZONE
BEGIN:VEVENT
DTSTART;TZID=Europe/Copenhagen:20241106T173000
DTEND;TZID=Europe/Copenhagen:20241106T210000
DTSTAMP:20260422T003657
CREATED:20241030T114551Z
LAST-MODIFIED:20241030T114552Z
UID:10042792-1730914200-1730926800@vorescosmos.dk
SUMMARY:Viby musikforening
DESCRIPTION:
URL:https://vorescosmos.dk/begivenhed/viby-musikforening-51/
LOCATION:Medielab\, Søndergade 11\, Viby Sj.\, 4130\, Danmark
CATEGORIES:Lokale bookninger
END:VEVENT
BEGIN:VEVENT
DTSTART;TZID=Europe/Copenhagen:20241105T190000
DTEND;TZID=Europe/Copenhagen:20241105T210000
DTSTAMP:20260422T003657
CREATED:20241030T105736Z
LAST-MODIFIED:20241030T105738Z
UID:10042790-1730833200-1730840400@vorescosmos.dk
SUMMARY:Borger
DESCRIPTION:
URL:https://vorescosmos.dk/begivenhed/borger-4/
LOCATION:Medielab\, Søndergade 11\, Viby Sj.\, 4130\, Danmark
CATEGORIES:Lokale bookninger
END:VEVENT
BEGIN:VEVENT
DTSTART;TZID=Europe/Copenhagen:20241031T090000
DTEND;TZID=Europe/Copenhagen:20241031T110000
DTSTAMP:20260422T003657
CREATED:20241025T092318Z
LAST-MODIFIED:20241025T092333Z
UID:10042756-1730365200-1730372400@vorescosmos.dk
SUMMARY:Husrådet
DESCRIPTION:
URL:https://vorescosmos.dk/begivenhed/husraadet-4/
LOCATION:Medielab\, Søndergade 11\, Viby Sj.\, 4130\, Danmark
CATEGORIES:Lokale bookninger
END:VEVENT
BEGIN:VEVENT
DTSTART;TZID=Europe/Copenhagen:20241029T160000
DTEND;TZID=Europe/Copenhagen:20241029T230000
DTSTAMP:20260422T003657
CREATED:20240516T082740Z
LAST-MODIFIED:20240516T082742Z
UID:10042433-1730217600-1730242800@vorescosmos.dk
SUMMARY:KulturCosmos Stand up
DESCRIPTION:
URL:https://vorescosmos.dk/begivenhed/kulturcosmos-stand-up-2/
LOCATION:Medielab\, Søndergade 11\, Viby Sj.\, 4130\, Danmark
CATEGORIES:Lokale bookninger
END:VEVENT
BEGIN:VEVENT
DTSTART;TZID=Europe/Copenhagen:20241028T183000
DTEND;TZID=Europe/Copenhagen:20241028T203000
DTSTAMP:20260422T003657
CREATED:20240823T105502Z
LAST-MODIFIED:20240823T105503Z
UID:10042680-1730140200-1730147400@vorescosmos.dk
SUMMARY:Læsegruppe
DESCRIPTION:
URL:https://vorescosmos.dk/begivenhed/laesegruppe-8/2024-10-28/
LOCATION:Medielab\, Søndergade 11\, Viby Sj.\, 4130\, Danmark
CATEGORIES:Lokale bookninger
END:VEVENT
BEGIN:VEVENT
DTSTART;TZID=Europe/Copenhagen:20241023T173000
DTEND;TZID=Europe/Copenhagen:20241023T210000
DTSTAMP:20260422T003657
CREATED:20241018T065054Z
LAST-MODIFIED:20241018T065056Z
UID:10042743-1729704600-1729717200@vorescosmos.dk
SUMMARY:Viby Musikforening
DESCRIPTION:
URL:https://vorescosmos.dk/begivenhed/viby-musikforening-49/
LOCATION:Medielab\, Søndergade 11\, Viby Sj.\, 4130\, Danmark
CATEGORIES:Lokale bookninger
END:VEVENT
BEGIN:VEVENT
DTSTART;TZID=Europe/Copenhagen:20241022T190000
DTEND;TZID=Europe/Copenhagen:20241022T220000
DTSTAMP:20260422T003657
CREATED:20241007T090133Z
LAST-MODIFIED:20241007T090134Z
UID:10042735-1729623600-1729634400@vorescosmos.dk
SUMMARY:Indspilningsgruppe
DESCRIPTION:
URL:https://vorescosmos.dk/begivenhed/indspilningsgruppe/2024-10-22/
LOCATION:Medielab\, Søndergade 11\, Viby Sj.\, 4130\, Danmark
CATEGORIES:Lokale bookninger
END:VEVENT
BEGIN:VEVENT
DTSTART;TZID=Europe/Copenhagen:20241016T173000
DTEND;TZID=Europe/Copenhagen:20241016T210000
DTSTAMP:20260422T003657
CREATED:20241015T091454Z
LAST-MODIFIED:20241015T091456Z
UID:10042739-1729099800-1729112400@vorescosmos.dk
SUMMARY:Viby musikforening
DESCRIPTION:
URL:https://vorescosmos.dk/begivenhed/viby-musikforening-48/
LOCATION:Medielab\, Søndergade 11\, Viby Sj.\, 4130\, Danmark
CATEGORIES:Lokale bookninger
END:VEVENT
BEGIN:VEVENT
DTSTART;TZID=Europe/Copenhagen:20241015T190000
DTEND;TZID=Europe/Copenhagen:20241015T220000
DTSTAMP:20260422T003657
CREATED:20241007T090133Z
LAST-MODIFIED:20241007T090134Z
UID:10042734-1729018800-1729029600@vorescosmos.dk
SUMMARY:Indspilningsgruppe
DESCRIPTION:
URL:https://vorescosmos.dk/begivenhed/indspilningsgruppe/2024-10-15/
LOCATION:Medielab\, Søndergade 11\, Viby Sj.\, 4130\, Danmark
CATEGORIES:Lokale bookninger
END:VEVENT
BEGIN:VEVENT
DTSTART;TZID=Europe/Copenhagen:20241014T183000
DTEND;TZID=Europe/Copenhagen:20241014T203000
DTSTAMP:20260422T003657
CREATED:20240823T105502Z
LAST-MODIFIED:20240823T105503Z
UID:10042679-1728930600-1728937800@vorescosmos.dk
SUMMARY:Læsegruppe
DESCRIPTION:
URL:https://vorescosmos.dk/begivenhed/laesegruppe-8/2024-10-14/
LOCATION:Medielab\, Søndergade 11\, Viby Sj.\, 4130\, Danmark
CATEGORIES:Lokale bookninger
END:VEVENT
BEGIN:VEVENT
DTSTART;TZID=Europe/Copenhagen:20241011T160000
DTEND;TZID=Europe/Copenhagen:20241011T230000
DTSTAMP:20260422T003657
CREATED:20240603T113835Z
LAST-MODIFIED:20240603T113836Z
UID:10042515-1728662400-1728687600@vorescosmos.dk
SUMMARY:Biblioteket
DESCRIPTION:
URL:https://vorescosmos.dk/begivenhed/biblioteket-26/
LOCATION:Medielab\, Søndergade 11\, Viby Sj.\, 4130\, Danmark
CATEGORIES:Lokale bookninger
END:VEVENT
BEGIN:VEVENT
DTSTART;TZID=Europe/Copenhagen:20241009T174500
DTEND;TZID=Europe/Copenhagen:20241009T210000
DTSTAMP:20260422T003657
CREATED:20241004T112416Z
LAST-MODIFIED:20241004T112417Z
UID:10042730-1728495900-1728507600@vorescosmos.dk
SUMMARY:Viby musikforening
DESCRIPTION:
URL:https://vorescosmos.dk/begivenhed/viby-musikforening-45/
LOCATION:Medielab\, Søndergade 11\, Viby Sj.\, 4130\, Danmark
CATEGORIES:Lokale bookninger
END:VEVENT
BEGIN:VEVENT
DTSTART;TZID=Europe/Copenhagen:20241008T190000
DTEND;TZID=Europe/Copenhagen:20241008T220000
DTSTAMP:20260422T003657
CREATED:20241007T090133Z
LAST-MODIFIED:20241007T090134Z
UID:10042733-1728414000-1728424800@vorescosmos.dk
SUMMARY:Indspilningsgruppe
DESCRIPTION:
URL:https://vorescosmos.dk/begivenhed/indspilningsgruppe/2024-10-08/
LOCATION:Medielab\, Søndergade 11\, Viby Sj.\, 4130\, Danmark
CATEGORIES:Lokale bookninger
END:VEVENT
BEGIN:VEVENT
DTSTART;TZID=Europe/Copenhagen:20241002T173000
DTEND;TZID=Europe/Copenhagen:20241002T210000
DTSTAMP:20260422T003657
CREATED:20241001T084607Z
LAST-MODIFIED:20241001T085539Z
UID:10042726-1727890200-1727902800@vorescosmos.dk
SUMMARY:Viby Musikforening
DESCRIPTION:
URL:https://vorescosmos.dk/begivenhed/viby-musikforening-44/
LOCATION:Medielab\, Søndergade 11\, Viby Sj.\, 4130\, Danmark
CATEGORIES:Lokale bookninger
END:VEVENT
BEGIN:VEVENT
DTSTART;TZID=Europe/Copenhagen:20241002T080000
DTEND;TZID=Europe/Copenhagen:20241002T150000
DTSTAMP:20260422T003657
CREATED:20240604T091308Z
LAST-MODIFIED:20240604T091719Z
UID:10042523-1727856000-1727881200@vorescosmos.dk
SUMMARY:Cosmos Poetry Slam
DESCRIPTION:
URL:https://vorescosmos.dk/begivenhed/cosmos-poetry-slam-2/
LOCATION:Medielab\, Søndergade 11\, Viby Sj.\, 4130\, Danmark
CATEGORIES:Lokale bookninger
END:VEVENT
BEGIN:VEVENT
DTSTART;TZID=Europe/Copenhagen:20241001T180000
DTEND;TZID=Europe/Copenhagen:20241001T220000
DTSTAMP:20260422T003657
CREATED:20240923T120539Z
LAST-MODIFIED:20240923T120540Z
UID:10042716-1727805600-1727820000@vorescosmos.dk
SUMMARY:Indspildningsgruppe
DESCRIPTION:
URL:https://vorescosmos.dk/begivenhed/indspildningsgruppe/2024-10-01/
LOCATION:Medielab\, Søndergade 11\, Viby Sj.\, 4130\, Danmark
CATEGORIES:Lokale bookninger
END:VEVENT
BEGIN:VEVENT
DTSTART;TZID=Europe/Copenhagen:20240930T183000
DTEND;TZID=Europe/Copenhagen:20240930T203000
DTSTAMP:20260422T003657
CREATED:20240823T105502Z
LAST-MODIFIED:20240823T105503Z
UID:10042678-1727721000-1727728200@vorescosmos.dk
SUMMARY:Læsegruppe
DESCRIPTION:
URL:https://vorescosmos.dk/begivenhed/laesegruppe-8/2024-09-30/
LOCATION:Medielab\, Søndergade 11\, Viby Sj.\, 4130\, Danmark
CATEGORIES:Lokale bookninger
END:VEVENT
BEGIN:VEVENT
DTSTART;TZID=Europe/Copenhagen:20240928T080000
DTEND;TZID=Europe/Copenhagen:20240928T130000
DTSTAMP:20260422T003657
CREATED:20240516T071707Z
LAST-MODIFIED:20240516T071709Z
UID:10042429-1727510400-1727528400@vorescosmos.dk
SUMMARY:KulturCosmos (Juniorshow)
DESCRIPTION:
URL:https://vorescosmos.dk/begivenhed/kulturcosmos-juniorshow-2/
LOCATION:Medielab\, Søndergade 11\, Viby Sj.\, 4130\, Danmark
CATEGORIES:Lokale bookninger
END:VEVENT
BEGIN:VEVENT
DTSTART;TZID=Europe/Copenhagen:20240925T200000
DTEND;TZID=Europe/Copenhagen:20240925T210000
DTSTAMP:20260422T003657
CREATED:20240828T061827Z
LAST-MODIFIED:20240828T061828Z
UID:10042691-1727294400-1727298000@vorescosmos.dk
SUMMARY:Forældreråd
DESCRIPTION:
URL:https://vorescosmos.dk/begivenhed/foraeldreraad/
LOCATION:Medielab\, Søndergade 11\, Viby Sj.\, 4130\, Danmark
CATEGORIES:Lokale bookninger
END:VEVENT
BEGIN:VEVENT
DTSTART;TZID=Europe/Copenhagen:20240924T180000
DTEND;TZID=Europe/Copenhagen:20240924T220000
DTSTAMP:20260422T003657
CREATED:20240923T120539Z
LAST-MODIFIED:20240923T120540Z
UID:10042715-1727200800-1727215200@vorescosmos.dk
SUMMARY:Indspildningsgruppe
DESCRIPTION:
URL:https://vorescosmos.dk/begivenhed/indspildningsgruppe/2024-09-24/
LOCATION:Medielab\, Søndergade 11\, Viby Sj.\, 4130\, Danmark
CATEGORIES:Lokale bookninger
END:VEVENT
BEGIN:VEVENT
DTSTART;TZID=Europe/Copenhagen:20240916T183000
DTEND;TZID=Europe/Copenhagen:20240916T203000
DTSTAMP:20260422T003657
CREATED:20240823T105502Z
LAST-MODIFIED:20240823T105503Z
UID:10042677-1726511400-1726518600@vorescosmos.dk
SUMMARY:Læsegruppe
DESCRIPTION:
URL:https://vorescosmos.dk/begivenhed/laesegruppe-8/2024-09-16/
LOCATION:Medielab\, Søndergade 11\, Viby Sj.\, 4130\, Danmark
CATEGORIES:Lokale bookninger
END:VEVENT
BEGIN:VEVENT
DTSTART;TZID=Europe/Copenhagen:20240911T173000
DTEND;TZID=Europe/Copenhagen:20240911T210000
DTSTAMP:20260422T003657
CREATED:20240910T163412Z
LAST-MODIFIED:20240910T163413Z
UID:10042706-1726075800-1726088400@vorescosmos.dk
SUMMARY:Viby Musikforening
DESCRIPTION:
URL:https://vorescosmos.dk/begivenhed/viby-musikforening-38/
LOCATION:Medielab\, Søndergade 11\, Viby Sj.\, 4130\, Danmark
CATEGORIES:Lokale bookninger
END:VEVENT
BEGIN:VEVENT
DTSTART;TZID=Europe/Copenhagen:20240911T173000
DTEND;TZID=Europe/Copenhagen:20240911T210000
DTSTAMP:20260422T003657
CREATED:20240910T135629Z
LAST-MODIFIED:20240910T135630Z
UID:10042705-1726075800-1726088400@vorescosmos.dk
SUMMARY:
DESCRIPTION:
URL:https://vorescosmos.dk/begivenhed/24147/
LOCATION:Medielab\, Søndergade 11\, Viby Sj.\, 4130\, Danmark
CATEGORIES:Lokale bookninger
END:VEVENT
BEGIN:VEVENT
DTSTART;TZID=Europe/Copenhagen:20240904T173000
DTEND;TZID=Europe/Copenhagen:20240904T210000
DTSTAMP:20260422T003657
CREATED:20240903T125820Z
LAST-MODIFIED:20240903T125821Z
UID:10042697-1725471000-1725483600@vorescosmos.dk
SUMMARY:Viby Musikforening
DESCRIPTION:
URL:https://vorescosmos.dk/begivenhed/viby-musikforening-37/
LOCATION:Medielab\, Søndergade 11\, Viby Sj.\, 4130\, Danmark
CATEGORIES:Lokale bookninger
END:VEVENT
BEGIN:VEVENT
DTSTART;TZID=Europe/Copenhagen:20240902T183000
DTEND;TZID=Europe/Copenhagen:20240902T203000
DTSTAMP:20260422T003657
CREATED:20240823T105502Z
LAST-MODIFIED:20240823T105503Z
UID:10042676-1725301800-1725309000@vorescosmos.dk
SUMMARY:Læsegruppe
DESCRIPTION:
URL:https://vorescosmos.dk/begivenhed/laesegruppe-8/2024-09-02/
LOCATION:Medielab\, Søndergade 11\, Viby Sj.\, 4130\, Danmark
CATEGORIES:Lokale bookninger
END:VEVENT
BEGIN:VEVENT
DTSTART;TZID=Europe/Copenhagen:20240831T080000
DTEND;TZID=Europe/Copenhagen:20240831T210000
DTSTAMP:20260422T003657
CREATED:20240819T111247Z
LAST-MODIFIED:20240819T111248Z
UID:10042665-1725091200-1725138000@vorescosmos.dk
SUMMARY:Cityforeningen
DESCRIPTION:
URL:https://vorescosmos.dk/begivenhed/cityforeningen/
LOCATION:Medielab\, Søndergade 11\, Viby Sj.\, 4130\, Danmark
CATEGORIES:Lokale bookninger
END:VEVENT
BEGIN:VEVENT
DTSTART;TZID=Europe/Copenhagen:20240828T180000
DTEND;TZID=Europe/Copenhagen:20240828T210000
DTSTAMP:20260422T003657
CREATED:20240820T120834Z
LAST-MODIFIED:20240820T120835Z
UID:10042669-1724868000-1724878800@vorescosmos.dk
SUMMARY:Viby Musikforening (Black Velvet band)
DESCRIPTION:
URL:https://vorescosmos.dk/begivenhed/viby-musikforening-black-velvet-band/
LOCATION:Medielab\, Søndergade 11\, Viby Sj.\, 4130\, Danmark
CATEGORIES:Lokale bookninger
END:VEVENT
BEGIN:VEVENT
DTSTART;TZID=Europe/Copenhagen:20240817T090000
DTEND;TZID=Europe/Copenhagen:20240817T150000
DTSTAMP:20260422T003657
CREATED:20240112T114027Z
LAST-MODIFIED:20240112T114027Z
UID:10041983-1723885200-1723906800@vorescosmos.dk
SUMMARY:Viby Jazz Days
DESCRIPTION:
URL:https://vorescosmos.dk/begivenhed/viby-jazz-days-2/2024-08-17/
LOCATION:Medielab\, Søndergade 11\, Viby Sj.\, 4130\, Danmark
CATEGORIES:Lokale bookninger
END:VEVENT
BEGIN:VEVENT
DTSTART;TZID=Europe/Copenhagen:20240706T090000
DTEND;TZID=Europe/Copenhagen:20240706T150000
DTSTAMP:20260422T003657
CREATED:20240112T114027Z
LAST-MODIFIED:20240112T114027Z
UID:10041982-1720256400-1720278000@vorescosmos.dk
SUMMARY:Viby Jazz Days
DESCRIPTION:
URL:https://vorescosmos.dk/begivenhed/viby-jazz-days-2/2024-07-06/
LOCATION:Medielab\, Søndergade 11\, Viby Sj.\, 4130\, Danmark
CATEGORIES:Lokale bookninger
END:VEVENT
BEGIN:VEVENT
DTSTART;TZID=Europe/Copenhagen:20240629T110000
DTEND;TZID=Europe/Copenhagen:20240629T140000
DTSTAMP:20260422T003657
CREATED:20240521T064203Z
LAST-MODIFIED:20240521T064205Z
UID:10042493-1719658800-1719669600@vorescosmos.dk
SUMMARY:Viby Fjernvarmeborgergruppe
DESCRIPTION:
URL:https://vorescosmos.dk/begivenhed/viby-fjernvarmeborgergruppe-3/
LOCATION:Medielab\, Søndergade 11\, Viby Sj.\, 4130\, Danmark
CATEGORIES:Lokale bookninger
END:VEVENT
END:VCALENDAR