BEGIN:VCALENDAR
VERSION:2.0
PRODID:-//Vores Cosmos - ECPv6.15.20//NONSGML v1.0//EN
CALSCALE:GREGORIAN
METHOD:PUBLISH
X-ORIGINAL-URL:https://vorescosmos.dk
X-WR-CALDESC:Begivenheder for Vores Cosmos
REFRESH-INTERVAL;VALUE=DURATION:PT1H
X-Robots-Tag:noindex
X-PUBLISHED-TTL:PT1H
BEGIN:VTIMEZONE
TZID:Europe/Copenhagen
BEGIN:DAYLIGHT
TZOFFSETFROM:+0100
TZOFFSETTO:+0200
TZNAME:CEST
DTSTART:20230326T010000
END:DAYLIGHT
BEGIN:STANDARD
TZOFFSETFROM:+0200
TZOFFSETTO:+0100
TZNAME:CET
DTSTART:20231029T010000
END:STANDARD
BEGIN:DAYLIGHT
TZOFFSETFROM:+0100
TZOFFSETTO:+0200
TZNAME:CEST
DTSTART:20240331T010000
END:DAYLIGHT
BEGIN:STANDARD
TZOFFSETFROM:+0200
TZOFFSETTO:+0100
TZNAME:CET
DTSTART:20241027T010000
END:STANDARD
BEGIN:DAYLIGHT
TZOFFSETFROM:+0100
TZOFFSETTO:+0200
TZNAME:CEST
DTSTART:20250330T010000
END:DAYLIGHT
BEGIN:STANDARD
TZOFFSETFROM:+0200
TZOFFSETTO:+0100
TZNAME:CET
DTSTART:20251026T010000
END:STANDARD
BEGIN:DAYLIGHT
TZOFFSETFROM:+0100
TZOFFSETTO:+0200
TZNAME:CEST
DTSTART:20260329T010000
END:DAYLIGHT
BEGIN:STANDARD
TZOFFSETFROM:+0200
TZOFFSETTO:+0100
TZNAME:CET
DTSTART:20261025T010000
END:STANDARD
END:VTIMEZONE
BEGIN:VEVENT
DTSTART;TZID=Europe/Copenhagen:20250222T133000
DTEND;TZID=Europe/Copenhagen:20250222T220000
DTSTAMP:20260425T004021
CREATED:20250106T105313Z
LAST-MODIFIED:20250106T105417Z
UID:10043079-1740231000-1740261600@vorescosmos.dk
SUMMARY:Dungeons & Dragons
DESCRIPTION:
URL:https://vorescosmos.dk/begivenhed/dungeons-dragons-2/2025-02-22/
LOCATION:Tænketanken\, Søndergade 11\, Viby Sj.\, 4130
CATEGORIES:Lokale bookninger
END:VEVENT
BEGIN:VEVENT
DTSTART;TZID=Europe/Copenhagen:20250208T133000
DTEND;TZID=Europe/Copenhagen:20250208T220000
DTSTAMP:20260425T004021
CREATED:20250106T105313Z
LAST-MODIFIED:20250106T105417Z
UID:10043078-1739021400-1739052000@vorescosmos.dk
SUMMARY:Dungeons & Dragons
DESCRIPTION:
URL:https://vorescosmos.dk/begivenhed/dungeons-dragons-2/2025-02-08/
LOCATION:Tænketanken\, Søndergade 11\, Viby Sj.\, 4130
CATEGORIES:Lokale bookninger
END:VEVENT
BEGIN:VEVENT
DTSTART;TZID=Europe/Copenhagen:20240618T100000
DTEND;TZID=Europe/Copenhagen:20240618T120000
DTSTAMP:20260425T004021
CREATED:20240606T104603Z
LAST-MODIFIED:20240606T104604Z
UID:10042532-1718704800-1718712000@vorescosmos.dk
SUMMARY:Kulturskolen
DESCRIPTION:
URL:https://vorescosmos.dk/begivenhed/kulturskolen-2/
LOCATION:Tænketanken\, Søndergade 11\, Viby Sj.\, 4130
CATEGORIES:Lokale bookninger
END:VEVENT
END:VCALENDAR